BEGIN:VCALENDAR
VERSION:2.0
PRODID:-//wp-events-plugin.com//7.2.3.1//EN
BEGIN:VEVENT
UID:75@womeninhpc.org
DTSTART;TZID=Europe/Berlin:20210702T090000
DTEND;TZID=Europe/Berlin:20210702T130000
DTSTAMP:20210611T080537Z
URL:https://womeninhpc.org/events/isc-2021-workshop
SUMMARY:ISC 2021 Workshop (CANCELLED)
DESCRIPTION:Diversifying the HPC Community
ATTACH;FMTTYPE=image/jpeg:https://womeninhpc.org/wp-content/uploads/2020/0
 1/WHPC_Workshop_Group.png
CATEGORIES:ISC 2021
END:VEVENT
BEGIN:VTIMEZONE
TZID:Europe/Berlin
X-LIC-LOCATION:Europe/Berlin
BEGIN:DAYLIGHT
DTSTART:20210328T030000
TZOFFSETFROM:+0100
TZOFFSETTO:+0200
TZNAME:CEST
END:DAYLIGHT
END:VTIMEZONE
END:VCALENDAR