BEGIN:VCALENDAR
VERSION:2.0
PRODID:-//wp-events-plugin.com//7.2.3.1//EN
BEGIN:VEVENT
UID:58@womeninhpc.org
DTSTART;TZID=America/Denver:20171114T183000
DTEND;TZID=America/Denver:20171114T201500
DTSTAMP:20200318T153508Z
URL:https://womeninhpc.org/events/networking-and-careers-reception
SUMMARY:SC17 Networking & Careers Reception
DESCRIPTION:A celebration of Women in HPC
ATTACH;FMTTYPE=image/jpeg:https://womeninhpc.org/wp-content/uploads/2016/0
 5/SSI-WISE-workshop-Manchester-Dec-2015.jpg
CATEGORIES:SC,SC 2017
LOCATION:The Corner Office Restaurant + Martini Bar\, 1401 Curtis Street\, 
 Denver\, Colorado\, CO 80202\, United States
GEO:39.745509;-104.997207
X-APPLE-STRUCTURED-LOCATION;VALUE=URI;X-ADDRESS=1401 Curtis Street\, Denver
 \, Colorado\, CO 80202\, United States;X-APPLE-RADIUS=100;X-TITLE=The Corn
 er Office Restaurant + Martini Bar:geo:39.745509,-104.997207
END:VEVENT
BEGIN:VTIMEZONE
TZID:America/Denver
X-LIC-LOCATION:America/Denver
BEGIN:STANDARD
DTSTART:20171105T010000
TZOFFSETFROM:-0600
TZOFFSETTO:-0700
TZNAME:MST
END:STANDARD
END:VTIMEZONE
END:VCALENDAR