BEGIN:VCALENDAR
VERSION:2.0
PRODID:-//wp-events-plugin.com//7.2.3.1//EN
BEGIN:VEVENT
UID:12@womeninhpc.org
DTSTART;TZID=America/Denver:20161113T090000
DTEND;TZID=America/Denver:20161113T173000
DTSTAMP:20251111T200533Z
URL:https://womeninhpc.org/events/sc-2016-workshop
SUMMARY:SC 2016 Workshop
DESCRIPTION:Diversifying the HPC Community
ATTACH;FMTTYPE=image/jpeg:https://womeninhpc.org/wp-content/uploads/2016/0
 4/Julia-Suzanne-cropped-low-res.jpg
CATEGORIES:SC,SC 2016
LOCATION:Salt Palace Convention Center\, 100 West Temple\, Salt Lake City\,
  Utah\, UT84101\, United States
GEO:40.767211;-111.89417300000002
X-APPLE-STRUCTURED-LOCATION;VALUE=URI;X-ADDRESS=100 West Temple\, Salt Lake
  City\, Utah\, UT84101\, United States;X-APPLE-RADIUS=100;X-TITLE=Salt Pal
 ace Convention Center:geo:40.767211,-111.89417300000002
END:VEVENT
BEGIN:VTIMEZONE
TZID:America/Denver
X-LIC-LOCATION:America/Denver
BEGIN:STANDARD
DTSTART:20161106T010000
TZOFFSETFROM:-0600
TZOFFSETTO:-0700
TZNAME:MST
END:STANDARD
END:VTIMEZONE
END:VCALENDAR