BEGIN:VCALENDAR
VERSION:2.0
PRODID:-//wp-events-plugin.com//7.2.3.1//EN
BEGIN:VEVENT
UID:116@womeninhpc.org
DTSTART;TZID=America/Chicago;VALUE=DATE:20251116
DTEND;TZID=America/Chicago;VALUE=DATE:20251122
DTSTAMP:20251116T184852Z
URL:https://womeninhpc.org/events/sc-2025
SUMMARY:SC25
DESCRIPTION:Main Event Page
ATTACH;FMTTYPE=image/jpeg:https://womeninhpc.org/wp-content/uploads/2025/0
 5/st-louis-ac.jpg
CATEGORIES:SC,SC 2025
LOCATION:America's Center Convention Complex\, 701 Convention Plaza\, Suite
  300\, St. Louis\, MO\, 63101\, United States
GEO:38.631088;-90.191238
X-APPLE-STRUCTURED-LOCATION;VALUE=URI;X-ADDRESS=701 Convention Plaza\, Suit
 e 300\, St. Louis\, MO\, 63101\, United States;X-APPLE-RADIUS=100;X-TITLE=
 America's Center Convention Complex:geo:38.631088,-90.191238
END:VEVENT
BEGIN:VTIMEZONE
TZID:America/Chicago
X-LIC-LOCATION:America/Chicago
BEGIN:STANDARD
DTSTART:20251102T010000
TZOFFSETFROM:-0500
TZOFFSETTO:-0600
TZNAME:CST
END:STANDARD
END:VTIMEZONE
END:VCALENDAR