BEGIN:VCALENDAR
VERSION:2.0
PRODID:-//wp-events-plugin.com//7.2.3.1//EN
BEGIN:VEVENT
UID:33@womeninhpc.org
DTSTART;TZID=America/Denver;VALUE=DATE:20181111
DTEND;TZID=America/Denver;VALUE=DATE:20181117
DTSTAMP:20200318T123334Z
URL:https://womeninhpc.org/events/sc18
SUMMARY:SC 2018
DESCRIPTION:Main Event Page
ATTACH;FMTTYPE=image/jpeg:https://womeninhpc.org/wp-content/uploads/2018/1
 2/13.jpg
CATEGORIES:SC,SC 2018
LOCATION:Kay Bailey Hutchison Convention Center\, 650 S Griffin St\, Dallas
 \, Texas\, 75202\, United States
GEO:32.774509;-96.8006052
X-APPLE-STRUCTURED-LOCATION;VALUE=URI;X-ADDRESS=650 S Griffin St\, Dallas\,
  Texas\, 75202\, United States;X-APPLE-RADIUS=100;X-TITLE=Kay Bailey Hutch
 ison Convention Center:geo:32.774509,-96.8006052
END:VEVENT
BEGIN:VTIMEZONE
TZID:America/Denver
X-LIC-LOCATION:America/Denver
BEGIN:STANDARD
DTSTART:20181104T010000
TZOFFSETFROM:-0600
TZOFFSETTO:-0700
TZNAME:MST
END:STANDARD
END:VTIMEZONE
END:VCALENDAR